BEGIN:VCALENDAR
VERSION:2.0
PRODID:-//Freiwillige Feuerwehr Goppeln-Hänichen - ECPv6.15.20//NONSGML v1.0//EN
CALSCALE:GREGORIAN
METHOD:PUBLISH
X-WR-CALNAME:Freiwillige Feuerwehr Goppeln-Hänichen
X-ORIGINAL-URL:https://www.ffw-goppeln-haenichen.de
X-WR-CALDESC:Veranstaltungen für Freiwillige Feuerwehr Goppeln-Hänichen
REFRESH-INTERVAL;VALUE=DURATION:PT1H
X-Robots-Tag:noindex
X-PUBLISHED-TTL:PT1H
BEGIN:VTIMEZONE
TZID:Europe/Berlin
BEGIN:DAYLIGHT
TZOFFSETFROM:+0100
TZOFFSETTO:+0200
TZNAME:CEST
DTSTART:20250330T010000
END:DAYLIGHT
BEGIN:STANDARD
TZOFFSETFROM:+0200
TZOFFSETTO:+0100
TZNAME:CET
DTSTART:20251026T010000
END:STANDARD
BEGIN:DAYLIGHT
TZOFFSETFROM:+0100
TZOFFSETTO:+0200
TZNAME:CEST
DTSTART:20260329T010000
END:DAYLIGHT
BEGIN:STANDARD
TZOFFSETFROM:+0200
TZOFFSETTO:+0100
TZNAME:CET
DTSTART:20261025T010000
END:STANDARD
BEGIN:DAYLIGHT
TZOFFSETFROM:+0100
TZOFFSETTO:+0200
TZNAME:CEST
DTSTART:20270328T010000
END:DAYLIGHT
BEGIN:STANDARD
TZOFFSETFROM:+0200
TZOFFSETTO:+0100
TZNAME:CET
DTSTART:20271031T010000
END:STANDARD
END:VTIMEZONE
BEGIN:VEVENT
DTSTART;TZID=Europe/Berlin:20260425T070000
DTEND;TZID=Europe/Berlin:20260425T160000
DTSTAMP:20260420T023510
CREATED:20251229T092746Z
LAST-MODIFIED:20260210T213139Z
UID:3182-1777100400-1777132800@www.ffw-goppeln-haenichen.de
SUMMARY:Ausbildungstag (GWL)
DESCRIPTION:
URL:https://www.ffw-goppeln-haenichen.de/event/ausbildungstag-gwl-3/
CATEGORIES:Dienst
END:VEVENT
BEGIN:VEVENT
DTSTART;TZID=Europe/Berlin:20260428T184500
DTEND;TZID=Europe/Berlin:20260428T210000
DTSTAMP:20260420T023510
CREATED:20251229T092746Z
LAST-MODIFIED:20251229T092746Z
UID:3183-1777401900-1777410000@www.ffw-goppeln-haenichen.de
SUMMARY:Einsatzübung (W. Schmidt / S. Buchholz)
DESCRIPTION:
URL:https://www.ffw-goppeln-haenichen.de/event/einsatzuebung-w-schmidt-s-buchholz/
CATEGORIES:Dienst
END:VEVENT
BEGIN:VEVENT
DTSTART;TZID=Europe/Berlin:20260506T184500
DTEND;TZID=Europe/Berlin:20260506T210000
DTSTAMP:20260420T023510
CREATED:20251229T092747Z
LAST-MODIFIED:20251229T093548Z
UID:3184-1778093100-1778101200@www.ffw-goppeln-haenichen.de
SUMMARY:OWL-Beratung & Gemeindefeuerwehrausschuss (GWL)
DESCRIPTION:
URL:https://www.ffw-goppeln-haenichen.de/event/owl-beratung-gemeindefeuerwehrausschuss/
CATEGORIES:Dienst
END:VEVENT
BEGIN:VEVENT
DTSTART;TZID=Europe/Berlin:20260512T184500
DTEND;TZID=Europe/Berlin:20260512T210000
DTSTAMP:20260420T023510
CREATED:20251229T092801Z
LAST-MODIFIED:20251229T093552Z
UID:3185-1778611500-1778619600@www.ffw-goppeln-haenichen.de
SUMMARY:Handhabung einfacher Hilfeleistungsgeräte (T. Pretzsch)
DESCRIPTION:
URL:https://www.ffw-goppeln-haenichen.de/event/handhabung-einfacher-hilfeleistungsgeraete-t-pretzsch/
CATEGORIES:Dienst
END:VEVENT
BEGIN:VEVENT
DTSTART;TZID=Europe/Berlin:20260526T184500
DTEND;TZID=Europe/Berlin:20260526T210000
DTSTAMP:20260420T023510
CREATED:20251229T092801Z
LAST-MODIFIED:20251229T093555Z
UID:3186-1779821100-1779829200@www.ffw-goppeln-haenichen.de
SUMMARY:Strahlrohrtraining (S. Buchholz)
DESCRIPTION:
URL:https://www.ffw-goppeln-haenichen.de/event/strahlrohrtraining-s-buchholz/
CATEGORIES:Dienst
END:VEVENT
BEGIN:VEVENT
DTSTART;TZID=Europe/Berlin:20260609T184500
DTEND;TZID=Europe/Berlin:20260609T210000
DTSTAMP:20260420T023510
CREATED:20251229T092801Z
LAST-MODIFIED:20251229T092801Z
UID:3187-1781030700-1781038800@www.ffw-goppeln-haenichen.de
SUMMARY:Knoten & Einbinden von Geräten // Retten-& Selbstretten (T. Ludwig / F. Proß)
DESCRIPTION:
URL:https://www.ffw-goppeln-haenichen.de/event/knoten-einbinden-von-geraeten-retten-selbstretten-t-ludwig-f-pross/
CATEGORIES:Dienst
END:VEVENT
BEGIN:VEVENT
DTSTART;TZID=Europe/Berlin:20260613T100000
DTEND;TZID=Europe/Berlin:20260613T180000
DTSTAMP:20260420T023510
CREATED:20251229T092802Z
LAST-MODIFIED:20251229T093601Z
UID:3188-1781344800-1781373600@www.ffw-goppeln-haenichen.de
SUMMARY:Orientierungslauf Höckendorf (OWL)
DESCRIPTION:
URL:https://www.ffw-goppeln-haenichen.de/event/orientierungslauf-hoeckendorf/
CATEGORIES:Dienst
END:VEVENT
BEGIN:VEVENT
DTSTART;TZID=Europe/Berlin:20260615T184500
DTEND;TZID=Europe/Berlin:20260615T210000
DTSTAMP:20260420T023510
CREATED:20251229T092802Z
LAST-MODIFIED:20251229T093605Z
UID:3189-1781549100-1781557200@www.ffw-goppeln-haenichen.de
SUMMARY:Verkehrsübungsparcours (F. Haschick)
DESCRIPTION:
URL:https://www.ffw-goppeln-haenichen.de/event/verkehrsuebungsparcours-f-haschick/
CATEGORIES:Dienst
END:VEVENT
BEGIN:VEVENT
DTSTART;TZID=Europe/Berlin:20260623T184500
DTEND;TZID=Europe/Berlin:20260623T210000
DTSTAMP:20260420T023510
CREATED:20251229T092816Z
LAST-MODIFIED:20251229T093607Z
UID:3190-1782240300-1782248400@www.ffw-goppeln-haenichen.de
SUMMARY:Zusammenarbeit RW 2 Kreischa (F. Haschick)
DESCRIPTION:
URL:https://www.ffw-goppeln-haenichen.de/event/zusammenarbeit-rw-2-kreischa-f-haschick/
CATEGORIES:Dienst
END:VEVENT
BEGIN:VEVENT
DTSTART;TZID=Europe/Berlin:20260627T184500
DTEND;TZID=Europe/Berlin:20260627T210000
DTSTAMP:20260420T023510
CREATED:20251229T092816Z
LAST-MODIFIED:20251229T092816Z
UID:3191-1782585900-1782594000@www.ffw-goppeln-haenichen.de
SUMMARY:Tag der offenen Tür Goppeln (14-20)\, anschließend Verein FwParty (F. Haschick / L. Kempe)
DESCRIPTION:
URL:https://www.ffw-goppeln-haenichen.de/event/tag-der-offenen-tuer-goppeln-14-20-anschliessend-verein-fwparty-f-haschick-l-kempe/
CATEGORIES:Dienst
END:VEVENT
BEGIN:VEVENT
DTSTART;TZID=Europe/Berlin:20260630T184500
DTEND;TZID=Europe/Berlin:20260630T210000
DTSTAMP:20260420T023510
CREATED:20251229T092816Z
LAST-MODIFIED:20251229T093611Z
UID:3192-1782845100-1782853200@www.ffw-goppeln-haenichen.de
SUMMARY:Führungskräfteschulung (GWL)
DESCRIPTION:
URL:https://www.ffw-goppeln-haenichen.de/event/fuehrungskraefteschulung-gwl-6/
CATEGORIES:Dienst
END:VEVENT
BEGIN:VEVENT
DTSTART;TZID=Europe/Berlin:20260707T184500
DTEND;TZID=Europe/Berlin:20260707T210000
DTSTAMP:20260420T023510
CREATED:20251229T092816Z
LAST-MODIFIED:20251229T092816Z
UID:3193-1783449900-1783458000@www.ffw-goppeln-haenichen.de
SUMMARY:Gruppe und Staffel im Löscheinsatz (D. Rathgeber / S. Walther)
DESCRIPTION:
URL:https://www.ffw-goppeln-haenichen.de/event/gruppe-und-staffel-im-loescheinsatz-d-rathgeber-s-walther/
CATEGORIES:Dienst
END:VEVENT
BEGIN:VEVENT
DTSTART;TZID=Europe/Berlin:20260721T184500
DTEND;TZID=Europe/Berlin:20260721T210000
DTSTAMP:20260420T023510
CREATED:20251229T092816Z
LAST-MODIFIED:20251229T093618Z
UID:3194-1784659500-1784667600@www.ffw-goppeln-haenichen.de
SUMMARY:Lange Wegstrecke (H. Scholz)
DESCRIPTION:
URL:https://www.ffw-goppeln-haenichen.de/event/lange-wegstrecke-h-scholz/
CATEGORIES:Dienst
END:VEVENT
BEGIN:VEVENT
DTSTART;TZID=Europe/Berlin:20260804T184500
DTEND;TZID=Europe/Berlin:20260804T210000
DTSTAMP:20260420T023510
CREATED:20251229T092910Z
LAST-MODIFIED:20251229T093620Z
UID:3195-1785869100-1785877200@www.ffw-goppeln-haenichen.de
SUMMARY:Schaumangriff (S. Buchholz)
DESCRIPTION:
URL:https://www.ffw-goppeln-haenichen.de/event/schaumangriff-s-buchholz/
CATEGORIES:Dienst
END:VEVENT
BEGIN:VEVENT
DTSTART;TZID=Europe/Berlin:20260818T184500
DTEND;TZID=Europe/Berlin:20260818T210000
DTSTAMP:20260420T023510
CREATED:20251229T092911Z
LAST-MODIFIED:20251229T093623Z
UID:3196-1787078700-1787086800@www.ffw-goppeln-haenichen.de
SUMMARY:Gruppe und Staffel im TH-Einsatz (J. Beyer-Schöner)
DESCRIPTION:
URL:https://www.ffw-goppeln-haenichen.de/event/gruppe-und-staffel-im-th-einsatz-j-beyer-schoener/
CATEGORIES:Dienst
END:VEVENT
BEGIN:VEVENT
DTSTART;TZID=Europe/Berlin:20260821T090000
DTEND;TZID=Europe/Berlin:20260821T230000
DTSTAMP:20260420T023510
CREATED:20251228T092911Z
LAST-MODIFIED:20251229T093720Z
UID:3197-1787302800-1787353200@www.ffw-goppeln-haenichen.de
SUMMARY:150 Jahre FFW Possendorf (inkl. Verein)
DESCRIPTION:Details siehe https://feuerwehr-possendorf.de/?page_id=696
URL:https://www.ffw-goppeln-haenichen.de/event/150-jahre-ffw-possendorf-inkl-verein/
CATEGORIES:Dienst
END:VEVENT
BEGIN:VEVENT
DTSTART;TZID=Europe/Berlin:20260825T184500
DTEND;TZID=Europe/Berlin:20260825T210000
DTSTAMP:20260420T023510
CREATED:20251229T092911Z
LAST-MODIFIED:20251229T093733Z
UID:3198-1787683500-1787691600@www.ffw-goppeln-haenichen.de
SUMMARY:OWL-Beratung & Gemeindefeuerwehrausschuss (GWL)
DESCRIPTION:
URL:https://www.ffw-goppeln-haenichen.de/event/owl-beratung-gemeindefeuerwehrausschuss-2/
CATEGORIES:Dienst
END:VEVENT
BEGIN:VEVENT
DTSTART;TZID=Europe/Berlin:20260901T184500
DTEND;TZID=Europe/Berlin:20260901T210000
DTSTAMP:20260420T023510
CREATED:20251229T092911Z
LAST-MODIFIED:20251229T092911Z
UID:3199-1788288300-1788296400@www.ffw-goppeln-haenichen.de
SUMMARY:Einsatzübung Atemschutz (F. Proß / J. Richter?)
DESCRIPTION:
URL:https://www.ffw-goppeln-haenichen.de/event/einsatzuebung-atemschutz-f-pross-j-richter/
CATEGORIES:Dienst
END:VEVENT
BEGIN:VEVENT
DTSTART;TZID=Europe/Berlin:20260910T184500
DTEND;TZID=Europe/Berlin:20260910T210000
DTSTAMP:20260420T023510
CREATED:20251229T092926Z
LAST-MODIFIED:20251229T093739Z
UID:3200-1789065900-1789074000@www.ffw-goppeln-haenichen.de
SUMMARY:Führungskräfteschulung (GWL)
DESCRIPTION:
URL:https://www.ffw-goppeln-haenichen.de/event/fuehrungskraefteschulung-gwl-7/
CATEGORIES:Dienst
END:VEVENT
BEGIN:VEVENT
DTSTART;TZID=Europe/Berlin:20260915T184500
DTEND;TZID=Europe/Berlin:20260915T210000
DTSTAMP:20260420T023510
CREATED:20251229T092926Z
LAST-MODIFIED:20251229T093744Z
UID:3201-1789497900-1789506000@www.ffw-goppeln-haenichen.de
SUMMARY:Gefahren an der Einsatzstelle / SofortDekon (S. Buchholz)
DESCRIPTION:
URL:https://www.ffw-goppeln-haenichen.de/event/gefahren-an-der-einsatzstelle-sofortdekon-s-buchholz/
CATEGORIES:Dienst
END:VEVENT
BEGIN:VEVENT
DTSTART;TZID=Europe/Berlin:20260929T184500
DTEND;TZID=Europe/Berlin:20260929T210000
DTSTAMP:20260420T023510
CREATED:20251229T092926Z
LAST-MODIFIED:20251229T092926Z
UID:3202-1790707500-1790715600@www.ffw-goppeln-haenichen.de
SUMMARY:Feuerwehrolympiade (A. Schiller / L. Hölzel)
DESCRIPTION:
URL:https://www.ffw-goppeln-haenichen.de/event/feuerwehrolympiade-a-schiller-l-hoelzel/
CATEGORIES:Dienst
END:VEVENT
BEGIN:VEVENT
DTSTART;TZID=Europe/Berlin:20261013T184500
DTEND;TZID=Europe/Berlin:20261013T210000
DTSTAMP:20260420T023510
CREATED:20251229T092926Z
LAST-MODIFIED:20251229T093750Z
UID:3203-1791917100-1791925200@www.ffw-goppeln-haenichen.de
SUMMARY:Wasserentnahme aus offenem Gewässer (T. Ludwig)
DESCRIPTION:
URL:https://www.ffw-goppeln-haenichen.de/event/wasserentnahme-aus-offenem-gewaesser-t-ludwig/
CATEGORIES:Dienst
END:VEVENT
BEGIN:VEVENT
DTSTART;TZID=Europe/Berlin:20261027T184500
DTEND;TZID=Europe/Berlin:20261027T210000
DTSTAMP:20260420T023510
CREATED:20251229T092926Z
LAST-MODIFIED:20251229T093752Z
UID:3204-1793126700-1793134800@www.ffw-goppeln-haenichen.de
SUMMARY:tragbare Leitern (S. Walther)
DESCRIPTION:
URL:https://www.ffw-goppeln-haenichen.de/event/tragbare-leitern-s-walther-2/
CATEGORIES:Dienst
END:VEVENT
BEGIN:VEVENT
DTSTART;TZID=Europe/Berlin:20261028T184500
DTEND;TZID=Europe/Berlin:20261028T210000
DTSTAMP:20260420T023510
CREATED:20251229T092941Z
LAST-MODIFIED:20251229T093758Z
UID:3205-1793213100-1793221200@www.ffw-goppeln-haenichen.de
SUMMARY:Erste Hilfe / AED / PSNV
DESCRIPTION:
URL:https://www.ffw-goppeln-haenichen.de/event/erste-hilfe-aed-psnv/
CATEGORIES:Dienst
END:VEVENT
BEGIN:VEVENT
DTSTART;TZID=Europe/Berlin:20261030T170000
DTEND;TZID=Europe/Berlin:20261030T230000
DTSTAMP:20260420T023510
CREATED:20251229T092942Z
LAST-MODIFIED:20251229T093806Z
UID:3206-1793379600-1793401200@www.ffw-goppeln-haenichen.de
SUMMARY:Verein: Halloween-Party
DESCRIPTION:
URL:https://www.ffw-goppeln-haenichen.de/event/verein-halloween-party/
CATEGORIES:Dienst
END:VEVENT
BEGIN:VEVENT
DTSTART;TZID=Europe/Berlin:20261102T184500
DTEND;TZID=Europe/Berlin:20261102T210000
DTSTAMP:20260420T023510
CREATED:20251229T092942Z
LAST-MODIFIED:20251229T093809Z
UID:3207-1793645100-1793653200@www.ffw-goppeln-haenichen.de
SUMMARY:Führungskräfteschulung (GWL)
DESCRIPTION:
URL:https://www.ffw-goppeln-haenichen.de/event/fuehrungskraefteschulung-gwl-8/
CATEGORIES:Dienst
END:VEVENT
BEGIN:VEVENT
DTSTART;TZID=Europe/Berlin:20261110T184500
DTEND;TZID=Europe/Berlin:20261110T210000
DTSTAMP:20260420T023510
CREATED:20251229T092942Z
LAST-MODIFIED:20251229T092942Z
UID:3208-1794336300-1794344400@www.ffw-goppeln-haenichen.de
SUMMARY:MKS (bei Moritz Uhlig) // Ausleuchten (M. Göhler / C. Bartsch-Herzog)
DESCRIPTION:
URL:https://www.ffw-goppeln-haenichen.de/event/mks-bei-moritz-uhlig-ausleuchten-m-goehler-c-bartsch-herzog/
CATEGORIES:Dienst
END:VEVENT
BEGIN:VEVENT
DTSTART;TZID=Europe/Berlin:20261117T184500
DTEND;TZID=Europe/Berlin:20261117T210000
DTSTAMP:20260420T023510
CREATED:20251229T092942Z
LAST-MODIFIED:20251229T093815Z
UID:3209-1794941100-1794949200@www.ffw-goppeln-haenichen.de
SUMMARY:OWL-Beratung & Gemeindefeuerwehrausschuss (GWL)
DESCRIPTION:
URL:https://www.ffw-goppeln-haenichen.de/event/owl-beratung-gemeindefeuerwehrausschuss-3/
CATEGORIES:Dienst
END:VEVENT
BEGIN:VEVENT
DTSTART;TZID=Europe/Berlin:20261124T184500
DTEND;TZID=Europe/Berlin:20261124T210000
DTSTAMP:20260420T023510
CREATED:20251229T093141Z
LAST-MODIFIED:20251229T093818Z
UID:3210-1795545900-1795554000@www.ffw-goppeln-haenichen.de
SUMMARY:OTS Praxair (F. Haschick)
DESCRIPTION:
URL:https://www.ffw-goppeln-haenichen.de/event/ots-praxair-f-haschick/
CATEGORIES:Dienst
END:VEVENT
BEGIN:VEVENT
DTSTART;TZID=Europe/Berlin:20261208T184500
DTEND;TZID=Europe/Berlin:20261208T210000
DTSTAMP:20260420T023510
CREATED:20251229T093142Z
LAST-MODIFIED:20251229T093142Z
UID:3211-1796755500-1796763600@www.ffw-goppeln-haenichen.de
SUMMARY:Erste Hilfe & Tragehilfe (J. Richter / L. Richter)
DESCRIPTION:
URL:https://www.ffw-goppeln-haenichen.de/event/erste-hilfe-tragehilfe-j-richter-l-richter/
CATEGORIES:Dienst
END:VEVENT
END:VCALENDAR